BEGIN:VCALENDAR
VERSION:2.0
PRODID:-//Clark Public Utilities - ECPv6.15.20//NONSGML v1.0//EN
CALSCALE:GREGORIAN
METHOD:PUBLISH
X-WR-CALNAME:Clark Public Utilities
X-ORIGINAL-URL:https://www.clarkpublicutilities.com
X-WR-CALDESC:Events for Clark Public Utilities
REFRESH-INTERVAL;VALUE=DURATION:PT1H
X-Robots-Tag:noindex
X-PUBLISHED-TTL:PT1H
BEGIN:VTIMEZONE
TZID:America/Vancouver
BEGIN:DAYLIGHT
TZOFFSETFROM:-0800
TZOFFSETTO:-0700
TZNAME:PDT
DTSTART:20170312T100000
END:DAYLIGHT
BEGIN:STANDARD
TZOFFSETFROM:-0700
TZOFFSETTO:-0800
TZNAME:PST
DTSTART:20171105T090000
END:STANDARD
BEGIN:DAYLIGHT
TZOFFSETFROM:-0800
TZOFFSETTO:-0700
TZNAME:PDT
DTSTART:20180311T100000
END:DAYLIGHT
BEGIN:STANDARD
TZOFFSETFROM:-0700
TZOFFSETTO:-0800
TZNAME:PST
DTSTART:20181104T090000
END:STANDARD
BEGIN:DAYLIGHT
TZOFFSETFROM:-0800
TZOFFSETTO:-0700
TZNAME:PDT
DTSTART:20190310T100000
END:DAYLIGHT
BEGIN:STANDARD
TZOFFSETFROM:-0700
TZOFFSETTO:-0800
TZNAME:PST
DTSTART:20191103T090000
END:STANDARD
BEGIN:DAYLIGHT
TZOFFSETFROM:-0800
TZOFFSETTO:-0700
TZNAME:PDT
DTSTART:20200308T100000
END:DAYLIGHT
BEGIN:STANDARD
TZOFFSETFROM:-0700
TZOFFSETTO:-0800
TZNAME:PST
DTSTART:20201101T090000
END:STANDARD
BEGIN:DAYLIGHT
TZOFFSETFROM:-0800
TZOFFSETTO:-0700
TZNAME:PDT
DTSTART:20210314T100000
END:DAYLIGHT
BEGIN:STANDARD
TZOFFSETFROM:-0700
TZOFFSETTO:-0800
TZNAME:PST
DTSTART:20211107T090000
END:STANDARD
BEGIN:DAYLIGHT
TZOFFSETFROM:-0800
TZOFFSETTO:-0700
TZNAME:PDT
DTSTART:20220313T100000
END:DAYLIGHT
BEGIN:STANDARD
TZOFFSETFROM:-0700
TZOFFSETTO:-0800
TZNAME:PST
DTSTART:20221106T090000
END:STANDARD
BEGIN:DAYLIGHT
TZOFFSETFROM:-0800
TZOFFSETTO:-0700
TZNAME:PDT
DTSTART:20230312T100000
END:DAYLIGHT
BEGIN:STANDARD
TZOFFSETFROM:-0700
TZOFFSETTO:-0800
TZNAME:PST
DTSTART:20231105T090000
END:STANDARD
END:VTIMEZONE
BEGIN:VEVENT
DTSTART;TZID=America/Vancouver:20180725T090000
DTEND;TZID=America/Vancouver:20180725T130000
DTSTAMP:20260423T104931
CREATED:20180606T212247Z
LAST-MODIFIED:20180606T212247Z
UID:8148-1532509200-1532523600@www.clarkpublicutilities.com
SUMMARY:Knotweed Survey July 25
DESCRIPTION:Help us search high and low for one of the most devious and devastating of all of the invasive weeds\, knotweed! You must be able to navigate over uneven terrain and through thick vegetation. Long sleeves and pants are recommended. Training\, tools\, and gloves provided at all events. Please wear sturdy\, closed-toed shoes – rainboots provided upon request. We provide snacks\, so please let us know if you have special dietary needs! Sign up online.
URL:https://www.clarkpublicutilities.com/event/knotweed-survey-july-25/
CATEGORIES:StreamTeam
END:VEVENT
BEGIN:VEVENT
DTSTART;TZID=America/Vancouver:20180925T180000
DTEND;TZID=America/Vancouver:20180925T203000
DTSTAMP:20260423T104931
CREATED:20180830T234647Z
LAST-MODIFIED:20181004T234509Z
UID:8367-1537898400-1537907400@www.clarkpublicutilities.com
SUMMARY:Stream Stewards
DESCRIPTION:This seven-week course will increase your awareness of geology\, hydrology\, riparian and wetland habitat\, wildlife\, water quality and stream restoration. All Stream Stewards receive hands-on experience and teaching opportunities\, plus the fun of teaming up with like-minded individuals. Tuition is free of charge\, however\, Stream Stewards are asked to volunteer through a variety of activities with the StreamTeam or a program partner in their first year.  This class fills up every year\, so apply online today!
URL:https://www.clarkpublicutilities.com/event/stream-stewards/2018-09-25/
ATTACH;FMTTYPE=image/jpeg:https://www.clarkpublicutilities.com/wp-content/uploads/2018/08/stream-steward-2018.jpg
END:VEVENT
BEGIN:VEVENT
DTSTART;TZID=America/Vancouver:20180929T083000
DTEND;TZID=America/Vancouver:20180929T140000
DTSTAMP:20260423T104931
CREATED:20240411T215501Z
LAST-MODIFIED:20240411T215501Z
UID:12411-1538209800-1538229600@www.clarkpublicutilities.com
SUMMARY:Stream Stewards
DESCRIPTION:This seven-week course will increase your awareness of geology\, hydrology\, riparian and wetland habitat\, wildlife\, water quality and stream restoration. All Stream Stewards receive hands-on experience and teaching opportunities\, plus the fun of teaming up with like-minded individuals. Tuition is free of charge\, however\, Stream Stewards are asked to volunteer through a variety of activities with the StreamTeam or a program partner in their first year.  This class fills up every year\, so apply online today!
URL:https://www.clarkpublicutilities.com/event/stream-stewards/
ATTACH;FMTTYPE=image/jpeg:https://www.clarkpublicutilities.com/wp-content/uploads/2018/08/stream-steward-2018.jpg
END:VEVENT
BEGIN:VEVENT
DTSTART;TZID=America/Vancouver:20180929T083000
DTEND;TZID=America/Vancouver:20180929T140000
DTSTAMP:20260423T104931
CREATED:20240402T194720Z
LAST-MODIFIED:20240402T194720Z
UID:12391-1538209800-1538229600@www.clarkpublicutilities.com
SUMMARY:Stream Stewards
DESCRIPTION:This seven-week course will increase your awareness of geology\, hydrology\, riparian and wetland habitat\, wildlife\, water quality and stream restoration. All Stream Stewards receive hands-on experience and teaching opportunities\, plus the fun of teaming up with like-minded individuals. Tuition is free of charge\, however\, Stream Stewards are asked to volunteer through a variety of activities with the StreamTeam or a program partner in their first year.  This class fills up every year\, so apply online today!
URL:https://www.clarkpublicutilities.com/event/stream-stewards/
ATTACH;FMTTYPE=image/jpeg:https://www.clarkpublicutilities.com/wp-content/uploads/2018/08/stream-steward-2018.jpg
END:VEVENT
BEGIN:VEVENT
DTSTART;TZID=America/Vancouver:20221203T090000
DTEND;TZID=America/Vancouver:20221203T130000
DTSTAMP:20260423T104931
CREATED:20221122T232346Z
LAST-MODIFIED:20221123T211543Z
UID:11119-1670058000-1670072400@www.clarkpublicutilities.com
SUMMARY:StreamTeam Tree Planting
DESCRIPTION:Come plant native trees with StreamTeam and AmeriCorps! Native trees not only clean the air we breathe\, but also protect the water we drink. As always\, training\, tools\, and snacks are provided. Sign up here.
URL:https://www.clarkpublicutilities.com/event/streamteam-tree-planting/
LOCATION:Battle Ground\, WA
CATEGORIES:Featured,StreamTeam
ATTACH;FMTTYPE=image/jpeg:https://www.clarkpublicutilities.com/wp-content/uploads/2022/10/events.jpg
GEO:47.7510741;-120.7401385
END:VEVENT
END:VCALENDAR