BEGIN:VCALENDAR
VERSION:2.0
PRODID:-//Clark Public Utilities - ECPv6.15.20//NONSGML v1.0//EN
CALSCALE:GREGORIAN
METHOD:PUBLISH
X-ORIGINAL-URL:https://www.clarkpublicutilities.com
X-WR-CALDESC:Events for Clark Public Utilities
REFRESH-INTERVAL;VALUE=DURATION:PT1H
X-Robots-Tag:noindex
X-PUBLISHED-TTL:PT1H
BEGIN:VTIMEZONE
TZID:America/Los_Angeles
BEGIN:DAYLIGHT
TZOFFSETFROM:-0800
TZOFFSETTO:-0700
TZNAME:PDT
DTSTART:20220313T100000
END:DAYLIGHT
BEGIN:STANDARD
TZOFFSETFROM:-0700
TZOFFSETTO:-0800
TZNAME:PST
DTSTART:20221106T090000
END:STANDARD
BEGIN:DAYLIGHT
TZOFFSETFROM:-0800
TZOFFSETTO:-0700
TZNAME:PDT
DTSTART:20230312T100000
END:DAYLIGHT
BEGIN:STANDARD
TZOFFSETFROM:-0700
TZOFFSETTO:-0800
TZNAME:PST
DTSTART:20231105T090000
END:STANDARD
BEGIN:DAYLIGHT
TZOFFSETFROM:-0800
TZOFFSETTO:-0700
TZNAME:PDT
DTSTART:20240310T100000
END:DAYLIGHT
BEGIN:STANDARD
TZOFFSETFROM:-0700
TZOFFSETTO:-0800
TZNAME:PST
DTSTART:20241103T090000
END:STANDARD
END:VTIMEZONE
BEGIN:VEVENT
DTSTART;TZID=America/Los_Angeles:20230311T090000
DTEND;TZID=America/Los_Angeles:20230311T130000
DTSTAMP:20260423T123959
CREATED:20230227T192935Z
LAST-MODIFIED:20230301T212519Z
UID:11367-1678525200-1678539600@www.clarkpublicutilities.com
SUMMARY:StreamTeam Potting/Planting Events
DESCRIPTION:Join us as we pot tree seedlings or cuttings in our native tree nursery. Rather than just restoring a few hundred feet of salmon habitat\, you will be contributing to the restoration of hundreds of acres of habitat\, in just one morning! \nAs with all of our activities\, training\, snacks\, and tools are provided. We will be under tents but outdoors\, so dress for the weather. Bring gloves\, a water bottle\, and a reusable mug. If you don’t have gloves\, we will have extra. \nVolunteers under the age of 18 who will not be accompanied by their legal guardian need to bring a signed copy of this release. \nPlease feel free to contact StreamTeam@clarkpud.com with questions or concerns. On the day of the event\, you can reach your team leader at 360-606-6056. \nSign up here
URL:https://www.clarkpublicutilities.com/event/streamteam-potting-planting-events/2023-03-11/
LOCATION:Clark Public Utilities – Operations\, 8600 NE 117th Avenue\, Vancouver\, WA\, 98662\, United States
CATEGORIES:StreamTeam
ATTACH;FMTTYPE=image/jpeg:https://www.clarkpublicutilities.com/wp-content/uploads/2023/02/tree-potting.jpg
GEO:45.6846046;-122.5549671
X-APPLE-STRUCTURED-LOCATION;VALUE=URI;X-ADDRESS=Clark Public Utilities – Operations 8600 NE 117th Avenue Vancouver WA 98662 United States;X-APPLE-RADIUS=500;X-TITLE=8600 NE 117th Avenue:geo:-122.5549671,45.6846046
END:VEVENT
END:VCALENDAR